BEGIN:VCALENDAR
VERSION:2.0
PRODID:-//OmniMagnetCalendar//EN
BEGIN:VEVENT
DTSTAMP:20190625T195740Z
STATUS:CONFIRMED
UID:dallas.illiniclub.org432
DTSTART:20260430T213000Z
DTEND:20260430T233000Z
LOCATION:Bar W, 2926 Maple Ave, Dallas, TX, 75201, United States,
SUMMARY:Meet & Greet with Coach B
DESCRIPTION:April 30 at Bar W
BEGIN:VALARM
TRIGGER:-PT15M
ACTION:DISPLAY
END:VALARM
TRANSP:OPAQUE
END:VEVENT
END:VCALENDAR
